BEGIN:VCALENDAR
VERSION:2.0
PRODID:-//Tukios.com/
BEGIN:VEVENT
UID:91f1d916-8c4f-4545-b2b8-4cb901240af9@www.whartonfuneralhome.com
DTSTAMP:20260422T225729Z
DTSTART:20260424T150000Z
DTEND:20260424T160000Z
SUMMARY:Mass
DESCRIPTION:
URL:https://www.whartonfuneralhome.com/obituaries/gael-garcia
LOCATION: 506 South East Avenue  Wharton TX 77488
GEO:29.3050942;-96.0961178
END:VEVENT
END:VCALENDAR