BEGIN:VCALENDAR
VERSION:2.0
PRODID:-//Tukios.com/
BEGIN:VEVENT
UID:75b2de8a-cad9-48cf-b27c-a7b4f96ac5a4@www.whartonfuneralhome.com
DTSTAMP:20260422T225938Z
DTSTART:20260424T000000Z
DTEND:20260424T010000Z
SUMMARY:Rosary
DESCRIPTION:
URL:https://www.whartonfuneralhome.com/obituaries/gael-garcia
LOCATION: 515 East Boling Highway  Wharton TX 77488
GEO:29.3246193;-96.0894758
END:VEVENT
END:VCALENDAR