BEGIN:VCALENDAR
VERSION:2.0
PRODID:-//Tukios.com/
BEGIN:VEVENT
UID:4fa7193c-4f29-45c5-b909-76fdb8526304@www.whartonfuneralhome.com
DTSTAMP:20260422T225938Z
DTSTART:20260423T220000Z
DTEND:20260423T230000Z
SUMMARY:Visitation
DESCRIPTION:
URL:https://www.whartonfuneralhome.com/obituaries/gael-garcia
LOCATION:Wharton Funeral Home 515 East Boling Highway  Wharton TX 77488
GEO:29.3246193;-96.0894758
END:VEVENT
END:VCALENDAR